BEGIN:VCALENDAR
CALSCALE:GREGORIAN
METHOD:PUBLISH
VERSION:2.0
PRODID:-//iCalWriter OpenSource Project//iCalWriter 0.8.1//EN
BEGIN:VEVENT
DTSTAMP:20260420T084627Z
UID:17766747870TGd@www.laatzen.de
DTSTART:20241215T170000
DTEND:20241215T180000
SUMMARY:Adventssingen
DESCRIPTION:Weitere Infos auf unserer Website: www.altlaatzenbluehtauf.org oder gerne auf Anfrage per Mail: alt-laatzen-blueht-auf@gmx.de
 
LOCATION:Nachbarschaftspark 30880 Laatzen / Alt-Laatzen
CATEGORIES:Quartiersmanagement
URL:http://www.laatzen.de/de/veranstaltungen-laatzen/event/182107,1191/adventssingen-15-12-2024.html
ATTACH:http://www.laatzen.de/de/datei/anzeigen/id/182108,1191/noten_gold.jpg
END:VEVENT
END:VCALENDAR
