BEGIN:VCALENDAR
CALSCALE:GREGORIAN
METHOD:PUBLISH
VERSION:2.0
PRODID:-//iCalWriter OpenSource Project//iCalWriter 0.8.1//EN
BEGIN:VEVENT
DTSTAMP:20260421T090114Z
UID:17767620740wGG@www.laatzen.de
DTSTART:20250409T160000
DTEND:20250409T170000
SUMMARY:Eltern-Café  und Büchermäuse
DESCRIPTION:Kinder: von 3 bis 6 Jahren
LOCATION:Familienzentrum 30880 Laatzen / Rethen
CATEGORIES:Eltern,Familie,Familienzentrum,Kinder
URL:http://www.laatzen.de/de/veranstaltungen-rethen/event/184366,1191/eltern-caf--und-buechermaeuse-09-04-2025.html
ATTACH:http://www.laatzen.de/de/datei/anzeigen/id/184367,1191/child_684604_1920.jpg
END:VEVENT
END:VCALENDAR
