BEGIN:VCALENDAR
CALSCALE:GREGORIAN
METHOD:PUBLISH
VERSION:2.0
PRODID:-//iCalWriter OpenSource Project//iCalWriter 0.8.1//EN
BEGIN:VEVENT
DTSTAMP:20260421T162259Z
UID:1776788579ORND@www.laatzen.de
DTSTART:20241025T180000
DTEND;VALUE=DATE:20241025
SUMMARY:Laternenfest im Park der Sinne
DESCRIPTION:Der Umzug startet um 18 Uhr am Gartenhaus. Die Veranstaltung wird vom Musikzug der Freiwilligen Feuerwehr der Stadt Laatzen begleitet.Das „Café im Park der Sinne“ ist geöffnet.
LOCATION:Park der Sinne 30880 Laatzen
CATEGORIES:Für Bürgerinnen und Bürger,Kinder,Park der Sinne
URL:https://www.laatzen.de/de/veranstaltungen-park-der-sinne/event/176999,1191/laternenfest-im-park-der-sinne-25-10-2024.html
ATTACH:https://www.laatzen.de/de/datei/anzeigen/id/177000,1191/laterne_sonne.jpg
END:VEVENT
END:VCALENDAR
