BEGIN:VCALENDAR
CALSCALE:GREGORIAN
METHOD:PUBLISH
VERSION:2.0
PRODID:-//iCalWriter OpenSource Project//iCalWriter 0.8.1//EN
BEGIN:VEVENT
DTSTAMP:20260421T082328Z
UID:1776759808mcDQ@www.laatzen.de
DTSTART:20250421T103000
DTEND;VALUE=DATE:20250421
SUMMARY:Saisoneröffnung Park der Sinne
DESCRIPTION:Der Förderverein Park der Sinne e.V. richtet wieder die Saisoneröffnung aus und lädt am Ostermontag in den Park der Sinne ein!
10:30 Uhr - Osterhasen verteilen Ostereier
11:00 Uhr Musikzug der Freiwilligen Feuerwehr Laatzen spielt
11:15 Uhr Begrüßung durch den Förderverein und den Bürgermeister
Außerdem können sich Kinder vom Osterhasen schminken lassen und das Café im Park der Sinne hat geöffnet.
Der Eintritt ist frei.
LOCATION:Park der Sinne 30880 Laatzen
Förderverein Park der Sinne 30880 Laatzen
CATEGORIES:Eltern,Familie,Familien und Kinder,Für Bürgerinnen und Bürger,Für Jung und Alt,Für Laatzen,Jugendliche,Kinder,Musik,Park der Sinne,Seniorinnen + Senioren,Volksfeste/ Märkte
URL:https://www.laatzen.de/de/veranstaltungskalender/event/193312,1191/saisoneroeffnung-park-der-sinne-21-04-2025.html
ATTACH:https://www.laatzen.de/de/datei/anzeigen/id/193313,1191/2023_saisoneroeffnung_park_der_sinne_fotos_meyer__3_.jpg
END:VEVENT
END:VCALENDAR
